BEGIN:VCALENDAR
VERSION:2.0
PRODID:-//3eEncore - ECPv6.15.15//NONSGML v1.0//EN
CALSCALE:GREGORIAN
METHOD:PUBLISH
X-WR-CALNAME:3eEncore
X-ORIGINAL-URL:https://www.3eencore.com
X-WR-CALDESC:Events for 3eEncore
REFRESH-INTERVAL;VALUE=DURATION:PT1H
X-Robots-Tag:noindex
X-PUBLISHED-TTL:PT1H
BEGIN:VTIMEZONE
TZID:America/Chicago
BEGIN:DAYLIGHT
TZOFFSETFROM:-0600
TZOFFSETTO:-0500
TZNAME:CDT
DTSTART:20250309T080000
END:DAYLIGHT
BEGIN:STANDARD
TZOFFSETFROM:-0500
TZOFFSETTO:-0600
TZNAME:CST
DTSTART:20251102T070000
END:STANDARD
BEGIN:DAYLIGHT
TZOFFSETFROM:-0600
TZOFFSETTO:-0500
TZNAME:CDT
DTSTART:20260308T080000
END:DAYLIGHT
BEGIN:STANDARD
TZOFFSETFROM:-0500
TZOFFSETTO:-0600
TZNAME:CST
DTSTART:20261101T070000
END:STANDARD
BEGIN:DAYLIGHT
TZOFFSETFROM:-0600
TZOFFSETTO:-0500
TZNAME:CDT
DTSTART:20270314T080000
END:DAYLIGHT
BEGIN:STANDARD
TZOFFSETFROM:-0500
TZOFFSETTO:-0600
TZNAME:CST
DTSTART:20271107T070000
END:STANDARD
BEGIN:DAYLIGHT
TZOFFSETFROM:-0600
TZOFFSETTO:-0500
TZNAME:CDT
DTSTART:20280312T080000
END:DAYLIGHT
BEGIN:STANDARD
TZOFFSETFROM:-0500
TZOFFSETTO:-0600
TZNAME:CST
DTSTART:20281105T070000
END:STANDARD
END:VTIMEZONE
BEGIN:VTIMEZONE
TZID:UTC
BEGIN:STANDARD
TZOFFSETFROM:+0000
TZOFFSETTO:+0000
TZNAME:UTC
DTSTART:20250101T000000
END:STANDARD
END:VTIMEZONE
BEGIN:VEVENT
DTSTART;VALUE=DATE:20260417
DTEND;VALUE=DATE:20260427
DTSTAMP:20260424T145015
CREATED:20250708T202748Z
LAST-MODIFIED:20250723T151645Z
UID:10001831-1776384000-1777247999@www.3eencore.com
SUMMARY:Hairspray Presented by The Premiere Playhouse
DESCRIPTION:You can’t stop the beat in this Tony-winning musical that’s as irresistible as it is inspiring. Follow Tracy Turnblad as she dances her way onto The Corny Collins Show and into the heart of a civil rights movement. Big hair\, big dreams\, and even bigger heart — Hairspray is a feel-good triumph for all.
URL:https://www.3eencore.com/event/hairspray-presented-by-the-premiere-playhouse/
LOCATION:Orpheum Theater Center\, 315 N. Phillips Avenue\, Sioux Falls\, SD\, 57104\, United States
CATEGORIES:Musical,The Premiere Playhouse
ATTACH;FMTTYPE=image/png:https://www.3eencore.com/wp-content/uploads/sites/2/2025/07/HAIRSPRAY-330X330.png
END:VEVENT
BEGIN:VEVENT
DTSTART;VALUE=DATE:20260507
DTEND;VALUE=DATE:20260511
DTSTAMP:20260424T145015
CREATED:20260116T164915Z
LAST-MODIFIED:20260413T185351Z
UID:10004454-1778112000-1778457599@www.3eencore.com
SUMMARY:Spotlight Theatre Company Presents: SEUSSICAL JR.
DESCRIPTION:Horton the Elephant\, the Cat in the Hat and all your favorite Dr. Seuss characters come to life in this whimsical\, heartwarming musical! Follow Horton as he protects the tiny Whos and learns that loyalty\, friendship and believing in yourself can make even the smallest voice heard. A colorful adventure for the whole family! \n  \n 
URL:https://www.3eencore.com/event/spotlight-theatre-company-presents-seussical-jr/
LOCATION:Orpheum Theater Center\, 315 N Phillips Ave\, Sioux Falls\, 57104\, United States
CATEGORIES:Musical,Spotlight Theatre Company
ATTACH;FMTTYPE=image/jpeg:https://www.3eencore.com/wp-content/uploads/sites/2/2026/01/featured-image-2.jpg
ORGANIZER;CN="Spotlight Theatre Company":MAILTO:events@siouxfallsorpheum.com
END:VEVENT
BEGIN:VEVENT
DTSTART;VALUE=DATE:20260612
DTEND;VALUE=DATE:20270622
DTSTAMP:20260424T145015
CREATED:20250708T201911Z
LAST-MODIFIED:20250723T151443Z
UID:10001828-1781222400-1813622399@www.3eencore.com
SUMMARY:Legally Blonde Presented by The Premiere Playhouse
DESCRIPTION:Elle Woods proves that you can be both fabulous and fierce in this empowering Broadway hit. With catchy songs\, big dance numbers\, and a message that defies expectations\, Legally Blonde is the ultimate pink-powered musical comedy. Bend and snap your way into summer with this dazzling closer to our season.
URL:https://www.3eencore.com/event/legally-blonde-presented-by-the-premiere-playhouse/
LOCATION:Orpheum Theater Center\, 315 N. Phillips Avenue\, Sioux Falls\, SD\, 57104\, United States
CATEGORIES:Musical,The Premiere Playhouse
ATTACH;FMTTYPE=image/png:https://www.3eencore.com/wp-content/uploads/sites/2/2025/07/LEGALLY-BLONDE-330X330-2.png
END:VEVENT
BEGIN:VEVENT
DTSTART;VALUE=DATE:20260807
DTEND;VALUE=DATE:20260817
DTSTAMP:20260424T145015
CREATED:20260409T142752Z
LAST-MODIFIED:20260417T150212Z
UID:10004923-1786060800-1786924799@www.3eencore.com
SUMMARY:Frozen Jr. presented by The Premiere Playhouse
DESCRIPTION:A story of true love and acceptance between sisters\, Frozen JR. expands upon the emotional relationship and journey between Princesses Anna and Elsa. When faced with danger\, the two discover their hidden potential and the powerful bond of sisterhood. With a cast of beloved characters and loaded with magic\, adventure\, and plenty of humor\, Frozen JR. is sure to thaw even the coldest heart!
URL:https://www.3eencore.com/event/frozen-jr-presented-by-the-premiere-playhouse/
LOCATION:Orpheum Theater Center\, 315 N. Phillips Avenue\, Sioux Falls\, SD\, 57104\, United States
CATEGORIES:Musical
ATTACH;FMTTYPE=image/png:https://www.3eencore.com/wp-content/uploads/sites/2/2026/04/Frozen-JR.png
END:VEVENT
BEGIN:VEVENT
DTSTART;VALUE=DATE:20260925
DTEND;VALUE=DATE:20261005
DTSTAMP:20260424T145015
CREATED:20260323T191015Z
LAST-MODIFIED:20260327T151651Z
UID:10004522-1790294400-1791158399@www.3eencore.com
SUMMARY:MASQUERADE: A Musical Allegory
DESCRIPTION:Masquerade is a colorful\, enchanting\, and poignant musical allegory about how the world became an unhinged masquerade – a dreamlike phantasmagoria crafted and painted by a solitary master. It’s the story of how the world became inverted\, reversed and rearranged from fairytales and fantasy – a fantastical yet relatable story with unexpected villains and unlikely heroes. \nThis new musical features a carnival of characters from many well-known classic books and fairytales alongside a few original characters you will never forget. Prepare for a thrill ride sure to make you laugh\, cry and want to slay a dragon – featuring music\, songs\, and voices you will not stop talking about. \nTimely for the world we live in today\, Masquerade reflects the confusion of our age while offering a fresh and thought-provoking perspective on truth\, identity\, mirrors and the masks we wear.
URL:https://www.3eencore.com/event/masquerade-a-musical-allegory/
LOCATION:Orpheum Theater Center\, 315 N. Phillips Avenue\, Sioux Falls\, SD\, 57104\, United States
CATEGORIES:Musical
ATTACH;FMTTYPE=image/jpeg:https://www.3eencore.com/wp-content/uploads/sites/2/2026/03/Masquerade-square-copy-1.jpg
END:VEVENT
BEGIN:VEVENT
DTSTART;VALUE=DATE:20261030
DTEND;VALUE=DATE:20261109
DTSTAMP:20260424T145015
CREATED:20260409T143920Z
LAST-MODIFIED:20260417T150252Z
UID:10004929-1793318400-1794182399@www.3eencore.com
SUMMARY:Goosebumps The Musical presented by The Premiere Playhouse
DESCRIPTION:Join us for Halloween at Goosebumps The Musical! Horror fans Brooke and Zeke are thrilled to be starring in a mysterious show called The Phantom\, and not the least bit frightened by the old legend that the play is cursed. But when strange\, eerie messages start appearing and a masked menace starts disrupting rehearsals\, they begin to wonder: what if there really is a ghost haunting their school\, determined to stop the show? Prepare to get goosebumps as they race to solve the mystery in this thrilling\, and chilling\, new musical\, based on the classic series by R.L. Stine.
URL:https://www.3eencore.com/event/goosebumps-the-musical-presented-by-the-premiere-playhouse/
LOCATION:Orpheum Theater Center\, 315 N. Phillips Avenue\, Sioux Falls\, SD\, 57104\, United States
CATEGORIES:Musical
ATTACH;FMTTYPE=image/png:https://www.3eencore.com/wp-content/uploads/sites/2/2026/04/Goosebumps-330.png
END:VEVENT
BEGIN:VEVENT
DTSTART;VALUE=DATE:20270429
DTEND;VALUE=DATE:20270503
DTSTAMP:20260424T145015
CREATED:20260330T135640Z
LAST-MODIFIED:20260409T180419Z
UID:10004849-1808956800-1809302399@www.3eencore.com
SUMMARY:A BEAUTIFUL NOISE: THE NEIL DIAMOND MUSICAL
DESCRIPTION:THE UNTOLD TRUE STORY OF A BROOKLYN KID WHO BECAME A CHART-BUSTING\, SHOW-STOPPING\, AWARD-WINNING AMERICAN ICON \nCreated in collaboration with Neil Diamond himself\, A BEAUTIFUL NOISE is the uplifting true story of how a kid from Brooklyn became a chart-busting\, show-stopping American rock icon. With 120 million albums sold\, a catalogue of classics like “America\,” “Forever in Blue Jeans\,” and “Sweet Caroline\,” an induction into the Songwriters and Rock and Roll Halls of Fame\, a Grammy® Lifetime Achievement Award\, and sold-out concerts around the world that made him bigger than Elvis\, Neil Diamond’s story was made to shine on Broadway-and head out on the road across America. \nLike Jersey Boys and Beautiful: The Carole King Musical before it\, A BEAUTIFUL NOISE: THE NEIL DIAMOND MUSICAL is an inspiring\, exhilarating\, energy-filled musical memoir that tells the untold true story of how America’s greatest hitmaker became a star\, set to the songs that defined his career.
URL:https://www.3eencore.com/event/a-beautiful-noise-the-neil-diamond-musical/
LOCATION:Mary W. Sommervold Hall\, 301 S. Main Ave\, Sioux Falls\, SD\, 57104\, United States
CATEGORIES:Broadway,Musical
ATTACH;FMTTYPE=image/jpeg:https://www.3eencore.com/wp-content/uploads/sites/2/2026/03/A-BEAUTIFUL-NOISE-Show-Cover.jpg
END:VEVENT
BEGIN:VEVENT
DTSTART;VALUE=DATE:20270514
DTEND;VALUE=DATE:20270524
DTSTAMP:20260424T145015
CREATED:20260409T143432Z
LAST-MODIFIED:20260417T150233Z
UID:10004926-1810252800-1811116799@www.3eencore.com
SUMMARY:Dear Evan Hansen Presented by The Premiere Playhouse
DESCRIPTION:A deeply moving story explores identity\, belonging\, and the search for connection in an increasingly digital world. With its powerful score and emotional storytelling\, Dear Evan Hansen speaks directly to the experiences of young people and the communities that support them. It’s a story about the courage it takes to be seen – and the hope that comes when we realize we are not alone.
URL:https://www.3eencore.com/event/dear-evan-hansen-presented-by-the-premiere-playhouse/
LOCATION:Orpheum Theater Center\, 315 N. Phillips Avenue\, Sioux Falls\, SD\, 57104\, United States
CATEGORIES:Musical
ATTACH;FMTTYPE=image/png:https://www.3eencore.com/wp-content/uploads/sites/2/2026/04/Dear-Evan-Hansen.png
END:VEVENT
END:VCALENDAR