BEGIN:VCALENDAR
VERSION:2.0
PRODID:-//3eEncore - ECPv6.15.15//NONSGML v1.0//EN
CALSCALE:GREGORIAN
METHOD:PUBLISH
X-ORIGINAL-URL:https://www.3eencore.com
X-WR-CALDESC:Events for 3eEncore
REFRESH-INTERVAL;VALUE=DURATION:PT1H
X-Robots-Tag:noindex
X-PUBLISHED-TTL:PT1H
BEGIN:VTIMEZONE
TZID:UTC
BEGIN:STANDARD
TZOFFSETFROM:+0000
TZOFFSETTO:+0000
TZNAME:UTC
DTSTART:20240101T000000
END:STANDARD
END:VTIMEZONE
BEGIN:VTIMEZONE
TZID:America/Chicago
BEGIN:DAYLIGHT
TZOFFSETFROM:-0600
TZOFFSETTO:-0500
TZNAME:CDT
DTSTART:20240310T080000
END:DAYLIGHT
BEGIN:STANDARD
TZOFFSETFROM:-0500
TZOFFSETTO:-0600
TZNAME:CST
DTSTART:20241103T070000
END:STANDARD
BEGIN:DAYLIGHT
TZOFFSETFROM:-0600
TZOFFSETTO:-0500
TZNAME:CDT
DTSTART:20250309T080000
END:DAYLIGHT
BEGIN:STANDARD
TZOFFSETFROM:-0500
TZOFFSETTO:-0600
TZNAME:CST
DTSTART:20251102T070000
END:STANDARD
BEGIN:DAYLIGHT
TZOFFSETFROM:-0600
TZOFFSETTO:-0500
TZNAME:CDT
DTSTART:20260308T080000
END:DAYLIGHT
BEGIN:STANDARD
TZOFFSETFROM:-0500
TZOFFSETTO:-0600
TZNAME:CST
DTSTART:20261101T070000
END:STANDARD
BEGIN:DAYLIGHT
TZOFFSETFROM:-0600
TZOFFSETTO:-0500
TZNAME:CDT
DTSTART:20270314T080000
END:DAYLIGHT
BEGIN:STANDARD
TZOFFSETFROM:-0500
TZOFFSETTO:-0600
TZNAME:CST
DTSTART:20271107T070000
END:STANDARD
END:VTIMEZONE
BEGIN:VEVENT
DTSTART;VALUE=DATE:20260327
DTEND;VALUE=DATE:20260405
DTSTAMP:20260424T162422
CREATED:20260112T165013Z
LAST-MODIFIED:20260326T204317Z
UID:10003971-1774569600-1775347199@www.3eencore.com
SUMMARY:The Passion and the Cross
DESCRIPTION:Now in its 6th season in Sioux Falls\, The Passion and the Cross is a sweeping\, two-act musical event—2 hours and 7 minutes long—featuring a cast of nearly 130 adults and children\, the largest ensemble ever to grace the Orpheum stage. \nThis production invites audiences on a breathtaking journey back to the first century\, to walk the dusty roads of Judea and witness the life\, sacrifice\, and triumph of Jesus Christ in a way unlike anything you’ve seen before. Both intimate and epic\, it is a deeply poignant work of art—one that speaks to the human heart while boldly proclaiming the truth of Christ and His Kingdom on earth. \nThrough original\, soul-stirring ballads and powerful orchestration\, the story unfolds with emotional depth and dramatic force—drawing you in\, holding your attention\, and speaking directly to your life. Every moment remains faithful to the biblical account\, honoring not only the beauty of the music and storytelling\, but the truth of Scripture itself. \nJesus is not merely a historical figure or a celebrated icon. He is far more than a superstar. As Scripture declares\, He is the risen and living God—the giver of life in all its fullness (John 10:10). \nCome. See. Listen. Experience the story that changed the world—for yourself.
URL:https://www.3eencore.com/event/the-passion-the-cross-2/
LOCATION:Orpheum Theater Center\, 315 N. Phillips Avenue\, Sioux Falls\, SD\, 57104\, United States
CATEGORIES:Musical
ATTACH;FMTTYPE=image/jpeg:https://www.3eencore.com/wp-content/uploads/sites/2/2026/02/passion-square-copy.jpg
END:VEVENT
BEGIN:VEVENT
DTSTART;VALUE=DATE:20260312
DTEND;VALUE=DATE:20260316
DTSTAMP:20260424T162422
CREATED:20260116T163839Z
LAST-MODIFIED:20260413T185256Z
UID:10004422-1773273600-1773619199@www.3eencore.com
SUMMARY:Spotlight Theatre Company Presents:  Rodgers & Hammerstein’s CINDERELLA: Youth Edition
DESCRIPTION:Experience the timeless magic of CINDERELLA in this specially adapted Youth Edition of the beloved Rodgers & Hammerstein classic. Filled with humor\, heart and unforgettable songs\, this enchanting production celebrates kindness\, courage and the power of dreams coming true\, perfect for audiences of all ages. \nImportant Arrival Information – March 14 Performance \nGuests attending the Saturday\, March 14 at 2 p.m. performance of CINDERELLA: Youth Edition at the Orpheum Theater Center should note that the downtown St. Patrick’s Day Parade will take place from 2–3:30 p.m.\, and some nearby streets will be closed during that time. \nPlease allow extra time for arrival and review the parking map here for nearby parking options. The Orpheum Theater Center will remain open and accessible for the performance.
URL:https://www.3eencore.com/event/spotlight-theatre-company-presents-cinderella/
LOCATION:Orpheum Theater Center\, 315 N Phillips Ave\, Sioux Falls\, 57104\, United States
CATEGORIES:Family,Musical,Spotlight Theatre Company
ATTACH;FMTTYPE=image/jpeg:https://www.3eencore.com/wp-content/uploads/sites/2/2026/01/1080x1080.jpg
ORGANIZER;CN="Spotlight Theatre Company":MAILTO:events@siouxfallsorpheum.com
END:VEVENT
BEGIN:VEVENT
DTSTART;VALUE=DATE:20260219
DTEND;VALUE=DATE:20260222
DTSTAMP:20260424T162422
CREATED:20250709T212924Z
LAST-MODIFIED:20251211T185005Z
UID:10002178-1771459200-1771718399@www.3eencore.com
SUMMARY:The Good Night Theatre Collective Presents Parents' Weekend
DESCRIPTION:In February 2026\, we’ll be world-premiering a brand-new musical comedy you won’t soon forget. Featuring the work of local playwright and performer Coleman Peterson\, this brand-new musical follows the shenanigans that ensue when old college pals reunite to relive their glory days… at their kids’ freshman year of college. It’s the first-ever production of… Parents’ Weekend!
URL:https://www.3eencore.com/event/the-good-night-theatre-collective-presents-parents-weekend/
LOCATION:Belbas Theater\, 301 S Main Ave\, Sioux Falls\, 57104
CATEGORIES:Musical,The Good Night Theatre Collective
ATTACH;FMTTYPE=image/png:https://www.3eencore.com/wp-content/uploads/sites/2/2025/07/3-300x300-1.png
END:VEVENT
BEGIN:VEVENT
DTSTART;VALUE=DATE:20251218
DTEND;VALUE=DATE:20251222
DTSTAMP:20260424T162422
CREATED:20250712T151427Z
LAST-MODIFIED:20251125T202003Z
UID:10003630-1766016000-1766361599@www.3eencore.com
SUMMARY:The Good Night Theatre Collective Presents Irving Berlin's White Christmas
DESCRIPTION:In December of 2025\, we’ll be bringing you back into the classics catalog of musicals. Featuring some of the most iconic tunes in movie musicals\, a tradition for many a household every snowy season\, we’ll be bringing it to you live just in time for the holidays! It’s the iconic musical you’ve been dreaming of… Irving Berlin’s White Christmas! \n  \nIRVING BERLIN’S WHITE CHRISTMAS is presented by arrangement with Concord Theatricals. (www.concordtheatricals.com)
URL:https://www.3eencore.com/event/the-good-night-theatre-collective-presents-white-christmas/
LOCATION:Belbas Theater\, 301 S Main Ave\, Sioux Falls\, 57104
CATEGORIES:Holiday Entertainment,Musical,The Good Night Theatre Collective
ATTACH;FMTTYPE=image/png:https://www.3eencore.com/wp-content/uploads/sites/2/2025/07/GNTC-S10-Show-Graphics-330x330-1.png
END:VEVENT
BEGIN:VEVENT
DTSTART;VALUE=DATE:20251125
DTEND;VALUE=DATE:20251126
DTSTAMP:20260424T162422
CREATED:20250718T150032Z
LAST-MODIFIED:20251105T165558Z
UID:10003510-1764028800-1764115199@www.3eencore.com
SUMMARY:Cirque Musica Holiday Wonderland
DESCRIPTION:vCIRQUE MUSICA HOLIDAY WONDERLAND BRINGS THE MAGIC TO THE WASHINGTON PAVILION ON\, TUESDAY\, NOVEMBER 25! \nThis holiday season\, experience the magic of cirque like never before with the all-new Cirque Musica Holiday Wonderland! A thrilling blend of world-class circus artistry and your favorite holiday music\, this spectacular production will transport you to a winter wonderland of awe and enchantment. \nWith breathtaking acrobatics\, soaring aerial performances\, and an all-new production for this year\, Cirque Musica Holiday Wonderland delivers an unforgettable holiday experience for the whole family. Feel the holiday spirit come to life with heart-pounding feats and beloved seasonal melodies. \nDon’t miss your chance to be part of the magic! Join us at Washington Pavillion on Tuesday\, November 25 for a night of wonder\, excitement\, and holiday cheer.
URL:https://www.3eencore.com/event/cirque-musica-holiday-wonderland/
LOCATION:Mary W. Sommervold Hall\, 301 S. Main Ave\, Sioux Falls\, SD\, 57104\, United States
CATEGORIES:Concert,Dance,Holiday Entertainment,Musical,Special Events
ATTACH;FMTTYPE=image/jpeg:https://www.3eencore.com/wp-content/uploads/sites/2/2025/07/CirqueMusica-SiouxFalls-112525-330px330.jpg
END:VEVENT
BEGIN:VEVENT
DTSTART;VALUE=DATE:20251113
DTEND;VALUE=DATE:20251117
DTSTAMP:20260424T162422
CREATED:20250915T170124Z
LAST-MODIFIED:20250924T134341Z
UID:10003094-1762992000-1763337599@www.3eencore.com
SUMMARY:Spotlight Theatre Company Presents: ANNIE JR.
DESCRIPTION:Based on the popular comic strip and adapted from the Tony Award-winning Best Musical\, with a beloved book and score by Tony Award winners\, Thomas Meehan\, Charles Strouse and Martin Charnin\, ANNIE JR. features everyone’s favorite little redhead in her very first adventure. \nWith equal measures of pluck and positivity\, little orphan Annie charms everyone’s hearts despite a next-to-nothing start in 1930s New York City. Annie is determined to find the parents who abandoned her years ago on the doorstep of an orphanage run by the cruel Miss Hannigan. Annie eventually foils Miss Hannigan’s evil machinations\, finding a new home and family in billionaire Oliver Warbucks\, his personal secretary\, Grace Farrell\, and a lovable mutt named Sandy.
URL:https://www.3eencore.com/event/spotlight-theatre-company-presents-annie-jr/
LOCATION:Orpheum Theater Center\, 315 N. Phillips Avenue\, Sioux Falls\, SD\, 57104\, United States
CATEGORIES:Musical,Spotlight Theatre Company
ATTACH;FMTTYPE=image/jpeg:https://www.3eencore.com/wp-content/uploads/sites/2/2025/09/Untitled-design-40.jpg
END:VEVENT
BEGIN:VEVENT
DTSTART;VALUE=DATE:20251030
DTEND;VALUE=DATE:20251102
DTSTAMP:20260424T162422
CREATED:20250709T214104Z
LAST-MODIFIED:20250813T154404Z
UID:10002187-1761782400-1762041599@www.3eencore.com
SUMMARY:The Good Night Theatre Collective Presents The Rocky Horror Show
DESCRIPTION:In honor of our 10th anniversary\, Good Night decided it’s finally time to revisit a musical from our first five seasons — one of our classic ICON Lounge shows that we’re dying to reimagine right here in the Belbas Theater! It’s one that’s been requested over and over since we did it back in 2019\, and we’re bringing it back for you in 2025 — by popular demand\, and just in time for Halloween weekend\, it’s The Rocky Horror Show! \nThough the midnight-movie tradition of The Rocky Horror Picture Show includes audience interaction\, projectile props and periodic shouting at the screen\, for the safety and focus of our live and in-person actors we ask that you refrain from that at this performance so that everyone can enjoy the fully live singing\, acting and musicianship of the local talent on display! No outside props are allowed\, and audible interruptions could result in your requested removal from the performance. Thank you in advance for your cooperation! \n  \nTHE ROCKY HORROR SHOW is presented by arrangement with Concord Theatricals. (www.concordtheatricals.com) \nBook\, Music and Lyrics by Richard O’Brien
URL:https://www.3eencore.com/event/the-good-night-theatre-collective-presents-the-rocky-horror-show/
LOCATION:Belbas Theater\, 301 S Main Ave\, Sioux Falls\, 57104
CATEGORIES:Musical,The Good Night Theatre Collective
ATTACH;FMTTYPE=image/png:https://www.3eencore.com/wp-content/uploads/sites/2/2025/07/2.png
END:VEVENT
BEGIN:VEVENT
DTSTART;VALUE=DATE:20251023
DTEND;VALUE=DATE:20251027
DTSTAMP:20260424T162422
CREATED:20250910T172417Z
LAST-MODIFIED:20250919T151908Z
UID:10003067-1761177600-1761523199@www.3eencore.com
SUMMARY:Spotlight Theatre Company Presents: BEETLEJUICE JR.
DESCRIPTION:It’s our show now\, kid. The ghost-with-the-most comes to the stage in BEETLEJUICE JR.\, the frightfully funny musical based on the beloved motion picture turned Broadway phenomenon. Lydia Deetz is a strange and unusual teenager\, still grieving the loss of her mother and obsessed with the whole “being dead thing.” Lucky for Lydia\, she and her father move to a new house haunted by a recently deceased couple and Beetlejuice\, a delightful demon with a real zest for life. When Lydia calls on Beetlejuice to scare away anyone with a pulse\, this double-crossing specter shows his true stripes\, unleashing a (Nether)world of pandemonium. \nWith music and lyrics by Tony Award-nominee Eddie Perfect and a book by Tony Award-nominated pair Anthony King and Scott Brown\, BEETLEJUICE was nominated for eight 2019 Tony Awards\, including Best New Musical. \nCreated for the generation that made it a hit\, BEETLEJUICE JR. is a wacky theatrical party for all!
URL:https://www.3eencore.com/event/spotlight-theatre-company-beetlejuice-jr/
LOCATION:Orpheum Theater Center\, 315 N. Phillips Avenue\, Sioux Falls\, SD\, 57104\, United States
CATEGORIES:Musical,Spotlight Theatre Company
ATTACH;FMTTYPE=image/jpeg:https://www.3eencore.com/wp-content/uploads/sites/2/2025/09/Untitled-design-38.jpg
END:VEVENT
BEGIN:VEVENT
DTSTART;VALUE=DATE:20251010
DTEND;VALUE=DATE:20251012
DTSTAMP:20260424T162422
CREATED:20250910T172125Z
LAST-MODIFIED:20251016T075359Z
UID:10003305-1760054400-1760227199@www.3eencore.com
SUMMARY:Spotlight Theatre Company Presents: WE ARE MONSTERS
DESCRIPTION:WE ARE MONSTERS is a hilarious new musical that follows human kids into a monster cabaret filled with quirky monster characters. The adventurous humans uncover vegetarian vampires and rock n’ roll werewolves\, gradually realizing there may be more to these monsters than meets the eye! Most importantly\, these monsters and kids discover the importance of friendship and celebrating in the attributes that make each of us different and unique.
URL:https://www.3eencore.com/event/spotlight-theatre-company-we-are-monsters/
LOCATION:Belbas Theater\, 301 S Main Ave\, Sioux Falls\, 57104
CATEGORIES:Musical,Spotlight Theatre Company
ATTACH;FMTTYPE=image/png:https://www.3eencore.com/wp-content/uploads/sites/2/2025/09/WAM-Logo-Small-website.png
END:VEVENT
BEGIN:VEVENT
DTSTART;VALUE=DATE:20251003
DTEND;VALUE=DATE:20251006
DTSTAMP:20260424T162422
CREATED:20250708T204318Z
LAST-MODIFIED:20250723T151904Z
UID:10001837-1759449600-1759708799@www.3eencore.com
SUMMARY:Noises Off Presented by The Premiere Playhouse
DESCRIPTION:A comedy about a play falling apart—literally. Noises Off is the ultimate backstage farce\, full of missed cues\, slamming doors\, and hilarious chaos. Follow a hopelessly dysfunctional cast as they struggle through rehearsals\, opening night\, and beyond. A laugh-out-loud masterclass in theatrical disaster.
URL:https://www.3eencore.com/event/noises-off-presented-by-the-premiere-playhouse/
LOCATION:Orpheum Theater Center\, 315 N. Phillips Avenue\, Sioux Falls\, SD\, 57104\, United States
CATEGORIES:Musical,The Premiere Playhouse
ATTACH;FMTTYPE=image/png:https://www.3eencore.com/wp-content/uploads/sites/2/2025/07/NOISES-OFF-330X330.png
END:VEVENT
BEGIN:VEVENT
DTSTART;VALUE=DATE:20250919
DTEND;VALUE=DATE:20250922
DTSTAMP:20260424T162422
CREATED:20250606T191144Z
LAST-MODIFIED:20250916T205425Z
UID:10003019-1758240000-1758499199@www.3eencore.com
SUMMARY:The Journey Inside | A Musical by Lights Up Productions
DESCRIPTION:Ticket purchases are limited to 8 per guest. Need more? Please contact the Box Office at 605-367-6000. \nThis is the story of three sisters from our world and three individuals from the Kingdom of Sapphire Castles. Together they embark on a thrilling\, heart-pounding\, thought-provoking\, and emotional odyssey. Their tale seamlessly weaves through every Lights Up Musical performed in the fall over the last six years in Sioux Falls—Mystery\, Lost in Vegas\, and Parables & Proverbs—featuring some of our most iconic songs from each show\, alongside brand-new music and scenes\, while introducing the most powerful villain of all: a 25-foot dragon. This promises to be a riveting experience like no other\, with a major announcement at the end.
URL:https://www.3eencore.com/event/the-journey-inside/
LOCATION:Orpheum Theater Center\, 315 N. Phillips Avenue\, Sioux Falls\, SD\, 57104\, United States
CATEGORIES:Musical
ATTACH;FMTTYPE=image/jpeg:https://www.3eencore.com/wp-content/uploads/sites/2/2025/06/calendar-of-events-copy.jpg
END:VEVENT
BEGIN:VEVENT
DTSTART;VALUE=DATE:20250815
DTEND;VALUE=DATE:20250818
DTSTAMP:20260424T162422
CREATED:20250604T190219Z
LAST-MODIFIED:20250624T213709Z
UID:10001486-1755216000-1755475199@www.3eencore.com
SUMMARY:Disney's High School Musical JR. by The Premiere Playhouse
DESCRIPTION:Disney’s story of East High students\, including Troy Bolton\, the basketball star\, and Gabriella Montez\, the brainy newcomer\, as they navigate love\, friendships and the school musical\, challenging stereotypes and embracing their individual talents.
URL:https://www.3eencore.com/event/disneys-high-school-musical-jr/
LOCATION:Orpheum Theater Center\, 315 N. Phillips Avenue\, Sioux Falls\, SD\, 57104\, United States
CATEGORIES:Musical,The Premiere Playhouse
ATTACH;FMTTYPE=image/jpeg:https://www.3eencore.com/wp-content/uploads/sites/2/2025/06/TPP-High-School-Musical-Jr-Graphic-330x330-1.jpg
END:VEVENT
BEGIN:VEVENT
DTSTART;VALUE=DATE:20250814
DTEND;VALUE=DATE:20250818
DTSTAMP:20260424T162422
CREATED:20250206T152641Z
LAST-MODIFIED:20250617T185848Z
UID:10001408-1755129600-1755475199@www.3eencore.com
SUMMARY:SAW The Musical
DESCRIPTION:Parental Advisory: Explicit Content \nOne of the most thought-provoking horror films of all time now is…a musical — directly from New York Off-Broadway. SAW The Musical hilariously captures the events of the first movie parodying the Saw that started it all following from where Lawrence Gordon and Adam Stanheight find each other for the first time in the bathroom trap. Will they follow ”the rules” as they discover each other’s secrets? Will they escape the game in time and saw right through? A love story with fluidity (and lots more fluids)\, SAW The Musical: The Unauthorized Parody of Saw is Little Shop of Horrors meets Avenue Q\, pushing the boundary on sexuality and how to love.
URL:https://www.3eencore.com/event/saw-the-musical/
LOCATION:Belbas Theater\, 301 S Main Ave\, Sioux Falls\, 57104
CATEGORIES:Drama,Musical
ATTACH;FMTTYPE=image/jpeg:https://www.3eencore.com/wp-content/uploads/sites/2/2025/02/saw_thumb_3.jpg
END:VEVENT
BEGIN:VEVENT
DTSTART;TZID=UTC:20250411T190000
DTEND;TZID=UTC:20250419T140000
DTSTAMP:20260424T162422
CREATED:20250320T220620Z
LAST-MODIFIED:20250402T200918Z
UID:10000382-1744398000-1745071200@www.3eencore.com
SUMMARY:The Passion & The Cross
DESCRIPTION:Now in our 5th season in Sioux Falls\, “The Passion and the Cross” is a one act\, 2 hour and 7-minute musical featuring a cast of about 150 adults and children (the largest cast ever put on the Orpheum stage). This musical is an enchanting journey back to the first century when Jesus walked the earth and unlike anything you’ve seen before. It is a poignant and relatable work of art while still making clear the message of Christ and His Kingdom here on Earth. The original\, soul-stirring ballads and musical orchestrations will speak to your life and keep you riveted to the story in the most unique way\, while remaining true to what the Bible actually says and teaches. Yes\, He is far more than a superstar. He is the risen\, living God\, and the giver of life to the fullest (John 10:10). \n  \n \n 
URL:https://www.3eencore.com/event/the-passion-the-cross/
LOCATION:Orpheum Theater Center\, 315 N. Phillips Avenue\, Sioux Falls\, SD\, 57104\, United States
CATEGORIES:Musical
ATTACH;FMTTYPE=image/jpeg:https://www.3eencore.com/wp-content/uploads/sites/2/2025/03/24.jpg
END:VEVENT
END:VCALENDAR