BEGIN:VCALENDAR
VERSION:2.0
PRODID:-//3eEncore - ECPv6.15.15//NONSGML v1.0//EN
CALSCALE:GREGORIAN
METHOD:PUBLISH
X-ORIGINAL-URL:https://www.3eencore.com
X-WR-CALDESC:Events for 3eEncore
REFRESH-INTERVAL;VALUE=DURATION:PT1H
X-Robots-Tag:noindex
X-PUBLISHED-TTL:PT1H
BEGIN:VTIMEZONE
TZID:UTC
BEGIN:STANDARD
TZOFFSETFROM:+0000
TZOFFSETTO:+0000
TZNAME:UTC
DTSTART:20250101T000000
END:STANDARD
END:VTIMEZONE
BEGIN:VTIMEZONE
TZID:America/Chicago
BEGIN:DAYLIGHT
TZOFFSETFROM:-0600
TZOFFSETTO:-0500
TZNAME:CDT
DTSTART:20250309T080000
END:DAYLIGHT
BEGIN:STANDARD
TZOFFSETFROM:-0500
TZOFFSETTO:-0600
TZNAME:CST
DTSTART:20251102T070000
END:STANDARD
BEGIN:DAYLIGHT
TZOFFSETFROM:-0600
TZOFFSETTO:-0500
TZNAME:CDT
DTSTART:20260308T080000
END:DAYLIGHT
BEGIN:STANDARD
TZOFFSETFROM:-0500
TZOFFSETTO:-0600
TZNAME:CST
DTSTART:20261101T070000
END:STANDARD
BEGIN:DAYLIGHT
TZOFFSETFROM:-0600
TZOFFSETTO:-0500
TZNAME:CDT
DTSTART:20270314T080000
END:DAYLIGHT
BEGIN:STANDARD
TZOFFSETFROM:-0500
TZOFFSETTO:-0600
TZNAME:CST
DTSTART:20271107T070000
END:STANDARD
END:VTIMEZONE
BEGIN:VEVENT
DTSTART;VALUE=DATE:20260430
DTEND;VALUE=DATE:20260501
DTSTAMP:20260422T193925
CREATED:20260216T164839Z
LAST-MODIFIED:20260416T155553Z
UID:10004908-1777507200-1777593599@www.3eencore.com
SUMMARY:Fellowship Jazz Center Orchestra featuring Andrea Ross
DESCRIPTION:Celebrate International Jazz Day and the one-year anniversary of the Fellowship Jazz Center Orchestra\, Sioux Falls’ premier jazz orchestra\, with an unforgettable evening of music on Thursday\, April 30 at 7:30 PM at the historic Orpheum Theater Center. \nThis special concert brings together the spirit of celebration\, education\, and community that defines jazz. International Jazz Day unites communities\, schools\, artists\, historians\, academics\, and jazz lovers around the world to honor the music’s rich roots and lasting impact. As the culmination of Jazz Appreciation Month\, it’s a global reminder of jazz’s extraordinary heritage and its power to connect people across cultures and generations. \nThe evening will feature special guest vocalist Andrea Ross\, described by The Boston Globe as “a phenom\, whose poise and pipes are astounding.” Known for her commanding presence\, deep musicality\, and electrifying performances\, Ross brings a rare blend of sophistication\, soul\, and swing—making her a perfect collaborator for this milestone celebration. \n\nFellowship Jazz Center is excited to have the Augustana University Blue & Gold Jazz Combo kick off the evening. The Blues & Gold Jazz Combo represents a vibrant extension of Augustana University’s rich jazz tradition\, bringing together student musicians in an intimate\, collaborative setting. Under the direction of Dr. Brian Hanegan\, the ensemble explores a wide spectrum of jazz styles while emphasizing authentic performance practice\, creativity\, and improvisation. As an opening act for the Fellowship Jazz Center Orchestra\, the combo highlights the next generation of jazz artists\, blending tradition with fresh artistic voices. Their performance reflects both a deep respect for the jazz lineage and a commitment to its continued evolution. \nJoin us for a night that honors the past\, celebrates the present\, and invests in the future of jazz. Get your tickets now and be part of a truly special evening centered on an art form that brings an incredible community together.
URL:https://www.3eencore.com/event/fellowship-jazz-center-orchestra-featuring-andrea-ross/
LOCATION:Orpheum Theater Center\, 315 N. Phillips Avenue\, Sioux Falls\, SD\, 57104\, United States
CATEGORIES:Concert
ATTACH;FMTTYPE=image/jpeg:https://www.3eencore.com/wp-content/uploads/sites/2/2026/02/FJCO-2026-IJD-330x330-BLACK-1.jpg
END:VEVENT
BEGIN:VEVENT
DTSTART;VALUE=DATE:20260503
DTEND;VALUE=DATE:20260504
DTSTAMP:20260422T193925
CREATED:20260414T191339Z
LAST-MODIFIED:20260421T145937Z
UID:10004934-1777766400-1777852799@www.3eencore.com
SUMMARY:Sioux Falls Children's Choir Spring Concert
DESCRIPTION:Join us for the Sioux Falls Children’s Choir Spring Concert featuring all three SFCC Choirs: Coro Crescendo “Growing Choir” (K-1st)\, Coro Dulce “Sweet Choir” (2nd-3rd)\, Coro Allegro “Joyful Choir”(4th-6th)
URL:https://www.3eencore.com/event/sioux-falls-childrens-choir-spring-concert/
LOCATION:Mary W. Sommervold Hall\, 301 S. Main Ave\, Sioux Falls\, SD\, 57104\, United States
CATEGORIES:Concert
ATTACH;FMTTYPE=image/jpeg:https://www.3eencore.com/wp-content/uploads/sites/2/2026/04/SF-Childrens-Choir-330.jpg
END:VEVENT
BEGIN:VEVENT
DTSTART;VALUE=DATE:20260512
DTEND;VALUE=DATE:20260513
DTSTAMP:20260422T193925
CREATED:20260330T205711Z
LAST-MODIFIED:20260403T150119Z
UID:10004777-1778544000-1778630399@www.3eencore.com
SUMMARY:Lincoln High School Jazz Bands "Encore" Concert
DESCRIPTION:Lincoln High School Jazz Bands; Jazz Collective\, Jazz Ensemble\, and Jazz the Third will perform their final year end concert.
URL:https://www.3eencore.com/event/lincoln-high-school-jazz-bands-encore-concert/
LOCATION:Belbas Theater\, 301 S Main Ave\, Sioux Falls\, 57104
CATEGORIES:Concert
ATTACH;FMTTYPE=image/jpeg:https://www.3eencore.com/wp-content/uploads/sites/2/2026/03/330-x-330-shows.jpg
END:VEVENT
BEGIN:VEVENT
DTSTART;VALUE=DATE:20260515
DTEND;VALUE=DATE:20260516
DTSTAMP:20260422T193925
CREATED:20250321T220317Z
LAST-MODIFIED:20250828T142104Z
UID:10002674-1778803200-1778889599@www.3eencore.com
SUMMARY:We Will Rock With You - A Night of Queen & Michael Jackson
DESCRIPTION:Experience the incredible Musical legacies of two of the top 5 best-selling artists ever. Queen & Michael Jackson. Two Incredible Shows in One Night. “We Will Rock With You – A Night of Queen & Michael Jackson” is One of the most exciting Live Concert experiences to come around in years. With an 8 Piece Queen Tribute Show with some of the best Freddie Mercury Impersonators in the World. rich with 5-piece harmonies and musicians that honor the musicianship that was queen\, by performing the music as it was written. capturing the spirit of Queen at it’s peak. Our 14 Piece Michael Jackson Tribute Show has 3 MJ performers\, one that has the best MJ Voice in the business combined with our 2 other MJ Tribute Artists that cover all of the “looks & signature moves of MJ”. Adding to this High energy Show is 5 dancers that replicate all of his signature dance routines\, from the Jackson 5 throughout his Solo career. Backed by world-class musicians that replicate the music as it was written. Putting the heart back into the tribute and making audiences feel his impact all over again. We Will Rock With You – A Night of Queen & Michael Jackson is a Live Concert Experience you do not want to miss. \nVIP ADD-ON:  \n\nStarts at 6pm\nMeet & Greet\nPhoto Opportunity\nAccess to soundcheck for a private mini concert.
URL:https://www.3eencore.com/event/we-will-rock-with-you/
LOCATION:Orpheum Theater Center\, 315 N. Phillips Avenue\, Sioux Falls\, SD\, 57104\, United States
CATEGORIES:Concert
ATTACH;FMTTYPE=image/jpeg:https://www.3eencore.com/wp-content/uploads/sites/2/2025/05/WWRWU-MAY-16-2026-Orpheum-Thtre-330x330_pe.jpg
END:VEVENT
BEGIN:VEVENT
DTSTART;VALUE=DATE:20260516
DTEND;VALUE=DATE:20260517
DTSTAMP:20260422T193925
CREATED:20250321T221139Z
LAST-MODIFIED:20250828T144057Z
UID:10002677-1778889600-1778975999@www.3eencore.com
SUMMARY:When Doves Cry - The Prince Tribute Show
DESCRIPTION:An exciting and dynamic live concert experience\, “When Doves Cry – The Prince Tribute Show” is a multi-talented 8-piece tribute show to the music of Prince. Performing Prince’s iconic “Purple Rain” album in its entirety as well as Prince’s greatest hits and deep cuts! Performing the songs as Prince wrote them. Having performed over 175 shows with 94 sold out shows the band will perform over 30 dates in 25 states throughout North America in 2025. You’ll hear Prince performed in a way that will take you back to that first time you heard Purple Rain! A Live Concert experience you don’t want to miss.
URL:https://www.3eencore.com/event/when-doves-cry/
LOCATION:Orpheum Theater Center\, 315 N. Phillips Avenue\, Sioux Falls\, SD\, 57104\, United States
CATEGORIES:Concert
ATTACH;FMTTYPE=image/jpeg:https://www.3eencore.com/wp-content/uploads/sites/2/2025/04/WDC-5-17-25-330X330.jpg
END:VEVENT
BEGIN:VEVENT
DTSTART;VALUE=DATE:20260523
DTEND;VALUE=DATE:20260524
DTSTAMP:20260422T193925
CREATED:20260206T183216Z
LAST-MODIFIED:20260312T194648Z
UID:10004443-1779494400-1779580799@www.3eencore.com
SUMMARY:Brian Billion - Remembering Rachmaninoff & Friends: Solo Piano Concert
DESCRIPTION:Classical pianist Dr. Brian Billion presents a piano concert of selected Preludes by Sergei Rachmaninoff\, as well as works of other great composers. In this concert\, Brian will also try to elucidate the music with his commentary\, drawing from art\, literature\, history\, and his own research. Dr. Billion holds degrees in Piano Performance from The Juilliard School\, Catholic University of America\, and The University of Minnesota.
URL:https://www.3eencore.com/event/brian-billion/
LOCATION:Belbas Theater\, 301 S Main Ave\, Sioux Falls\, 57104
CATEGORIES:Concert
ATTACH;FMTTYPE=image/jpeg:https://www.3eencore.com/wp-content/uploads/sites/2/2026/02/330x330-Brian-Billion-1.jpg
END:VEVENT
BEGIN:VEVENT
DTSTART;VALUE=DATE:20260605
DTEND;VALUE=DATE:20260606
DTSTAMP:20260422T193925
CREATED:20250821T145422Z
LAST-MODIFIED:20250903T165257Z
UID:10002793-1780617600-1780703999@www.3eencore.com
SUMMARY:Live & Local Presents Elsa Rae
DESCRIPTION:Elsa Rae: Now\, I Am Here \n \nStep into a musical journey spanning nearly two decades of original work from local songbird Elsa Rae. \nFrom intimate solo moments to bold\, full-band arrangements\, Elsa brings a dynamic range of sound — blending traditional folk with buzzing rock ‘n’ roll energy. This unforgettable evening will feature many of Sioux Falls’ most talented musicians\, all sharing the stage at the historic Orpheum Theater. \nYou don’t need to travel to a big city to find exceptional talent — it’s right here\, at home. Join us for a night that celebrates the heart and soul of our local music scene.
URL:https://www.3eencore.com/event/live-local-presents-elsa-rae/
LOCATION:Orpheum Theater Center\, 315 N. Phillips Avenue\, Sioux Falls\, SD\, 57104\, United States
CATEGORIES:Concert,Live and Local
ATTACH;FMTTYPE=image/png:https://www.3eencore.com/wp-content/uploads/sites/2/2025/09/Elsa-Rae-330x330-1.png
END:VEVENT
BEGIN:VEVENT
DTSTART;VALUE=DATE:20260612
DTEND;VALUE=DATE:20260613
DTSTAMP:20260422T193925
CREATED:20260123T191845Z
LAST-MODIFIED:20260212T202022Z
UID:10004218-1781222400-1781308799@www.3eencore.com
SUMMARY:Aaron Lewis and the Stateliners: 2026 American Tour
DESCRIPTION:Aaron Lewis\, the Vermont-born powerhouse first found success with Staind – the 2000s-era hard rockers who injected meditative muscle into an era better known for mindless aggression. But while that band is still very much alive\, it was never enough to satisfy Lewis’ creative drive. Embracing his roots to earn a rare second round of success\, a series of solo Country projects have led to two No. 1 Billboard Country Album debuts – TOWN LINE (2011) and SINNER (2016) – plus a PLATINUM collab with heroes George Jones and Charlie Daniels (“Country Boy”)\, and a GOLD-certified Billboard No. 1 with “Am I The Only One” in 2021. Lewis’ 2022 solo album followed suit\, with FRAYED AT BOTH ENDS emerging as the best-selling Country album in America but he never wrote songs for the stats. No matter the sonic setting\, Lewis writes and sings to get his truth out and his latest album THE HILL (2024) is no different. \n 
URL:https://www.3eencore.com/event/aaron-lewis-and-the-stateliners-2026-american-tour/
LOCATION:Mary W. Sommervold Hall\, 301 S. Main Ave\, Sioux Falls\, SD\, 57104\, United States
CATEGORIES:Concert
ATTACH;FMTTYPE=image/jpeg:https://www.3eencore.com/wp-content/uploads/sites/2/2026/01/AaronLewis-SiouxFalls-061226-1200px1200.jpg
END:VEVENT
BEGIN:VEVENT
DTSTART;VALUE=DATE:20260615
DTEND;VALUE=DATE:20260616
DTSTAMP:20260422T193925
CREATED:20251219T213249Z
LAST-MODIFIED:20260109T160104Z
UID:10003890-1781481600-1781567999@www.3eencore.com
SUMMARY:A Night With David Lee Roth
DESCRIPTION:Rock and roll icon David Lee Roth\, the voice of Van Halen\, has left an indelible mark on rock music. As the frontman of the legendary band\, Roth helped define an era with anthems like “Jump\,” “Panama\,” “Hot for Teacher\,” and “Runnin’ with the Devil.” His high-energy performances and unique vocal style quickly made Van Halen one of the biggest rock bands of the 80s. With over 80 million records sold worldwide\, the band’s impact on rock music remains unrivaled. Roth’s contributions were a pivotal part of Van Halen’s induction into the Rock and Roll Hall of Fame \nBeyond Van Halen\, Roth’s solo career showcased his unparalleled style and boundless energy\, with hits that further solidified his place in rock history. Known for his larger-than-life presence and unforgettable vocals\, Roth continues to captivate audiences and prove why he remains a true rock and roll legend.
URL:https://www.3eencore.com/event/a-night-with-david-lee-roth-washington-pavilion/
LOCATION:Mary W. Sommervold Hall\, 301 S. Main Ave\, Sioux Falls\, SD\, 57104\, United States
CATEGORIES:Concert
ATTACH;FMTTYPE=image/jpeg:https://www.3eencore.com/wp-content/uploads/sites/2/2025/12/DavidLeeRoth-SiouxFalls-061526-1200px1200.jpg
END:VEVENT
BEGIN:VEVENT
DTSTART;VALUE=DATE:20260622
DTEND;VALUE=DATE:20260623
DTSTAMP:20260422T193925
CREATED:20260401T163504Z
LAST-MODIFIED:20260410T150902Z
UID:10004861-1782086400-1782172799@www.3eencore.com
SUMMARY:The Papas and Mamas – No.1 Tribute to The Mamas & The Papas
DESCRIPTION:The Mamas & The Papas made history with 17 Billboard charting hits and a timeless sound that defined a generation. But who is carrying the torch today? Enter The Papas and Mamas – the world’s ONLY authentic Mamas & Papas tribute in both sight and sound. This exceptional group brings the vintage harmonies\, iconic looks\, and unforgettable music of the ‘60s supergroup back to life on stage. Dressed in full vintage costumes and backed by a powerhouse live band\, The Papas and Mamas deliver faithful recreations of beloved hits like “California Dreamin’\,” “Monday\, Monday\,” “Creeque Alley\,” and more. Their attention to detail – from the look to the lush harmonies –creates a concert experience that’s both nostalgic and exhilarating. Audiences across the country rave about how stunningly close the vocals are to the original records. Whether it’s the tender beauty of “Dedicated to the One I Love” or the high-energy encore of “Dancing in the Street\,” this show takes fans on a vibrant journey through the soundtrack of the late 1960s. Don’t miss this chance to relive the magic of The Mamas & The Papas with a tribute that’s been featured on the Flower Power Cruise and stages coast to coast. If you remember the music… you’ll love this show.
URL:https://www.3eencore.com/event/the-papas-and-mamas/
LOCATION:Orpheum Theater Center\, 315 N. Phillips Avenue\, Sioux Falls\, SD\, 57104\, United States
CATEGORIES:Concert
ATTACH;FMTTYPE=image/jpeg:https://www.3eencore.com/wp-content/uploads/sites/2/2026/04/330-papas-mamas.jpg
END:VEVENT
BEGIN:VEVENT
DTSTART;VALUE=DATE:20260710
DTEND;VALUE=DATE:20260712
DTSTAMP:20260422T193925
CREATED:20250718T100041Z
LAST-MODIFIED:20260108T180256Z
UID:10001701-1783641600-1783814399@www.3eencore.com
SUMMARY:Lallycooler Music Festival 2026
DESCRIPTION:Start looking forward to Lallycooler Music Festival\, the coolest thing you’ll do all summer. \nLallycooler Music Festival is a two-day music festival bringing huge artists\, incredible energy and unforgettable experiences to The Birdcage. \nLallycooler means “a real success\,” and that’s exactly what this festival will be. Whether you’re a local or visiting from across the Midwest\, you won’t want to miss this epic weekend! \n\n  \n\n 
URL:https://www.3eencore.com/event/lallycooler-music-festival-2026/
LOCATION:SD
CATEGORIES:Concert,Special Events
ATTACH;FMTTYPE=image/jpeg:https://www.3eencore.com/wp-content/uploads/sites/2/2025/03/Untitled-design-6.jpg
END:VEVENT
BEGIN:VEVENT
DTSTART;VALUE=DATE:20260731
DTEND;VALUE=DATE:20260801
DTSTAMP:20260422T193925
CREATED:20260202T224524Z
LAST-MODIFIED:20260213T160550Z
UID:10004251-1785456000-1785542399@www.3eencore.com
SUMMARY:Toast - The Best of Bread
DESCRIPTION:Over their career\, Bread scored 13 hits on the Billboard Top 100\, creating a catalog of soft rock classics that remain beloved decades later. While original members David Gates and Robb Royer are now retired\, their music lives on through Toast – The Best of Bread\, a concert experience dedicated to honoring Bread’s legacy. \nWith a level of fidelity rarely heard from tribute acts\, Toast’s sound is often described as spot-on to the original recordings. Audiences consistently praise how closely the live performances capture the warmth\, harmonies\, and detail of the records they know and love. \nToast – The Best of Bread takes listeners on a journey through timeless music\, from tender ballads that tug at the heartstrings to upbeat favorites that invite you to sing along and dance. The result is a polished\, high-quality concert experience that celebrates one of soft rock’s most enduring catalogs. \nRuntime: Approximately 2 hours and 10 minutes.
URL:https://www.3eencore.com/event/toast-the-best-of-bread/
LOCATION:Mary W. Sommervold Hall\, 301 S. Main Ave\, Sioux Falls\, SD\, 57104\, United States
CATEGORIES:Concert
ATTACH;FMTTYPE=image/jpeg:https://www.3eencore.com/wp-content/uploads/sites/2/2026/02/TOAST-Best-of-Bread-330.jpg
END:VEVENT
BEGIN:VEVENT
DTSTART;VALUE=DATE:20260823
DTEND;VALUE=DATE:20260824
DTSTAMP:20260422T193925
CREATED:20260209T191202Z
LAST-MODIFIED:20260220T160304Z
UID:10004337-1787443200-1787529599@www.3eencore.com
SUMMARY:Steely Dane: The Ultimate Steely Dan Tribute
DESCRIPTION:Winner of multiple awards for best tribute band\, Steely Dane is dedicated to not only faithfully reproducing the Steely Dan and Donald Fagen songbook\, but to bringing an energetic live-show experience to the crowd. Some of the Midwest’s best jazz and rock musicians have banded together around their passion for Steely Dan music\, playing in the same configuration as the Steely Dan touring band including a four-piece horn section and two background singers. Shows consist of hits and deep cuts and sometimes even complete albums and are sure to have you out of your seats singing along
URL:https://www.3eencore.com/event/steely-dane-the-ultimate-steely-dan-tribute/
LOCATION:Orpheum Theater Center\, 315 N. Phillips Avenue\, Sioux Falls\, SD\, 57104\, United States
CATEGORIES:Concert
ATTACH;FMTTYPE=image/jpeg:https://www.3eencore.com/wp-content/uploads/sites/2/2026/02/330x330-Steely-Dane-2.jpg
END:VEVENT
BEGIN:VEVENT
DTSTART;VALUE=DATE:20260918
DTEND;VALUE=DATE:20260919
DTSTAMP:20260422T193925
CREATED:20260403T131338Z
LAST-MODIFIED:20260410T163948Z
UID:10004873-1789689600-1789775999@www.3eencore.com
SUMMARY:Ricky Tims Musical Concert
DESCRIPTION:Music\, storytelling and creativity on stage\nJoin Ricky Tims for a one-of-a-kind evening of live music\, humor and storytelling\, presented by the Sioux Falls Quilt Guild. Known for his innovative approach to creativity\, Ricky brings his artistry to life in a performance that is both entertaining and inspiring. \nWhether you’re part of the quilting community or simply enjoy a great live experience\, this is a night you won’t want to miss
URL:https://www.3eencore.com/event/ricky-tims-musical-concert/
LOCATION:Mary W. Sommervold Hall\, 301 S. Main Ave\, Sioux Falls\, SD\, 57104\, United States
CATEGORIES:Concert
ATTACH;FMTTYPE=image/jpeg:https://www.3eencore.com/wp-content/uploads/sites/2/2026/04/1170x700-Ricky-Tims-quilt-330-x-330-px.jpg
END:VEVENT
BEGIN:VEVENT
DTSTART;VALUE=DATE:20260925
DTEND;VALUE=DATE:20260926
DTSTAMP:20260422T193925
CREATED:20260330T135936Z
LAST-MODIFIED:20260330T161255Z
UID:10004663-1790294400-1790380799@www.3eencore.com
SUMMARY:“I AM\, HE SAID” – A Celebration of The Music of Neil Diamond
DESCRIPTION:“We are saying what HE said\,” laughs Matt Vee referring to the one and only Neil Diamond. Matt along with cousins Jeff and Tommy Vee\, local music scene veterans and sons of the legendary Bobby Vee\, join forces with their family and friends as The Killer Vees to celebrate the music from a timeless catalog. With songs like “Cracklin’ Rosie\,” “America\,” and “Sweet Caroline\,” Neil Diamond sold over 100 million records worldwide with music that became the soundtrack to one generation after another with hits spanning five decades. As a Tin Pan Alley song writer in the mid 60s\, he penned songs recorded by everyone from Elvis Presley to Deep Purple and\, of course\, the Monkee’s classic\, “I’m A Believer.” \n“This is not a tribute show\,” says Tommy Vee. “This is a celebration of an amazing musical icon\, one we all love and respect. We have been fans since we were in grade school and first learning our respective instruments and played many of these tunes over the years in various bands. We have recruited an incredible group of singers and players and have gone back to the original records\,” he explains\, “it is all about the vocals and Matt nails it. It’s a Rockin’ show!” \nJoining The Killer Vees will be Matt’s wife Julie Velline on vocals and Tommy Vee’s son Bennett Vee on lead guitar along the incomparable Chris Bloniarz on keyboards\, Dennis Kennedy on percussion and Richard Manik on Saxophone\, flute\, keyboards and vocals\, as well as a very special surprise featuring local talent for the finale.
URL:https://www.3eencore.com/event/i-am-he-said/
LOCATION:Mary W. Sommervold Hall\, 301 S. Main Ave\, Sioux Falls\, SD\, 57104\, United States
CATEGORIES:Broadway,Concert
ATTACH;FMTTYPE=image/jpeg:https://www.3eencore.com/wp-content/uploads/sites/2/2026/03/I-AM-HE-SAID_Cover.jpg
END:VEVENT
BEGIN:VEVENT
DTSTART;VALUE=DATE:20261113
DTEND;VALUE=DATE:20261114
DTSTAMP:20260422T193925
CREATED:20260205T192617Z
LAST-MODIFIED:20260213T160636Z
UID:10004257-1794528000-1794614399@www.3eencore.com
SUMMARY:Anthony Shore presents Elvis in Concert
DESCRIPTION:Step into the world of Rock ‘n’ Roll royalty as Anthony Shore’s Elvis Tribute Show brings Elvis Presley’s legendary performance to life. Accompanied by a talented 14 piece band that includes a string and horn section\, this show promises a thrilling homage to the King of Rock ‘n’ Roll\, offering an unforgettable evening of nostalgia while capturing the essence of Elvis’s legendary performances.
URL:https://www.3eencore.com/event/anthony-shore-presents-elvis-in-concert/
LOCATION:Orpheum Theater Center\, 315 N. Phillips Avenue\, Sioux Falls\, SD\, 57104\, United States
CATEGORIES:Concert
ATTACH;FMTTYPE=image/jpeg:https://www.3eencore.com/wp-content/uploads/sites/2/2026/02/330x330-Elvis.jpg
END:VEVENT
END:VCALENDAR